BEGIN:VCALENDAR
VERSION:2.0
PRODID:-//ExpressionEngine Easy iCalendar plugin//NONSGML v2.0.1//EN
X-WR-TIMEZONE:America/Chicago
X-WR-CALNAME:Upcoming Auctions
BEGIN:VEVENT
UID:159914
DTSTAMP:20260424T150500
DTSTART:20260424T150500
DTEND:20260512T190000
SUMMARY:Oldham Consignment Auction
LOCATION:1000 E. Z Hwy\, Bates City\, MO 64011\, US
DESCRIPTION:2010 Honda ST1300 Motorcycle\, 2004 Ford F-150\, 1998 GMC Sier
 ra\, 2007 Hyundai Tiburon\, 2016 Gravely ZTR Mower\, Vintage Ho
 nda Motorcycles & Trail Bikes\, Youth 4-Wheelers\, Lots Of Nic
 e Shop Equipment & Tools\, Lots Of Nice Automotive Equipment\,
  Firearms & Ammo\, Household Goods\, And Much More!!!
URL:https://www.oldhamauctions.com/auctions/detail/bw159914
SEQUENCE:1
END:VEVENT
END:VCALENDAR